BEGIN:VCALENDAR
VERSION:2.0
PRODID:-//ChamberMaster//Event Calendar 2.0//EN
METHOD:PUBLISH
X-PUBLISHED-TTL:P3D
REFRESH-INTERVAL:P3D
CALSCALE:GREGORIAN
BEGIN:VEVENT
DTSTART:20100826T203000Z
DTEND:20100826T210000Z
X-MICROSOFT-CDO-ALLDAYEVENT:FALSE
SUMMARY:Ribbon Cutting
DESCRIPTION:Ribbon Cutting New Reflections House Thursday\, August 26\, 2010 @ 2:30pm 565 West 900 South\, Tooele
X-ALT-DESC;FMTTYPE=text/html:<div style="text-align: center"><strong><u><span style="font-size: large">Ribbon Cutting </span></u></strong></div><div style="text-align: center"><span style="font-size: large">New Reflections House </span></div><div style="text-align: center"><span style="font-size: large">Thursday\, August 26\, 2010 @ 2:30pm </span></div><div style="text-align: center"><span style="font-size: large">565 West 900 South\, Tooele </span></div><div>&nbsp\;</div>
LOCATION:
UID:e.125.3223
SEQUENCE:3
DTSTAMP:20260423T013559Z
URL:https://business.tooelechamber.com/events/details/ribbon-cutting-08-26-2010-3223
END:VEVENT

END:VCALENDAR
