BEGIN:VCALENDAR
VERSION:2.0
PRODID:-//ChamberMaster//Event Calendar 2.0//EN
METHOD:PUBLISH
X-PUBLISHED-TTL:P3D
REFRESH-INTERVAL:P3D
CALSCALE:GREGORIAN
BEGIN:VEVENT
DTSTART:20120829T180000Z
DTEND:20120829T190000Z
X-MICROSOFT-CDO-ALLDAYEVENT:FALSE
SUMMARY:Ribbon Cutting
DESCRIPTION:RIBBON CUTTING\n\n	Farmers David Millard Agency\n\n	Wednesday\, August 29th\, 2012\n\n	@12:00\, Noon\n\n	7 South Main Street. Tooele\, Utah Click here to edit...
X-ALT-DESC;FMTTYPE=text/html:<div style="color: gray">\n	<span style="font-size: 15pt"><span style="color: red"><span style="font-family: arial\, sans-serif"><strong><u>RIBBON CUTTING</u></strong></span></span></span><br />\n	<span style="font-size: 15pt"><span style="font-family: arial\, sans-serif">Farmers David Millard Agency<br />\n	Wednesday\, August 29th\, 2012<br />\n	@12:00\, Noon<br />\n	7 South Main Street. Tooele\, Utah&nbsp\;</span></span>Click here to edit...</div>\n
LOCATION:
UID:e.125.4925
SEQUENCE:3
DTSTAMP:20260421T103244Z
URL:https://business.tooelechamber.com/events/details/ribbon-cutting-08-29-2012-4925
END:VEVENT

END:VCALENDAR
