BEGIN:VCALENDAR
VERSION:2.0
PRODID:-//ChamberMaster//Event Calendar 2.0//EN
METHOD:PUBLISH
X-PUBLISHED-TTL:P3D
REFRESH-INTERVAL:P3D
CALSCALE:GREGORIAN
BEGIN:VEVENT
DTSTART:20120907T180000Z
DTEND:20120907T190000Z
X-MICROSOFT-CDO-ALLDAYEVENT:FALSE
SUMMARY:Ribbon Cutting
DESCRIPTION:Ribbon Cutting\n\nSake Thrift Ave.\n\nSeptember 7\, 2012 @ 12 Noon\n\n15 South Main Street.
X-ALT-DESC;FMTTYPE=text/html:<strong><span style="font-size: 16px"><span style="color: #0000ff"><u>Ribbon Cutting</u></span><br />\nSake Thrift Ave.<br />\nSeptember 7\, 2012 @ 12 Noon<br />\n15 South Main Street.</span></strong>
LOCATION:
UID:e.125.4926
SEQUENCE:3
DTSTAMP:20260421T090038Z
URL:https://business.tooelechamber.com/events/details/ribbon-cutting-09-07-2012-4926
END:VEVENT

END:VCALENDAR
