BEGIN:VCALENDAR
VERSION:2.0
PRODID:-//ChamberMaster//Event Calendar 2.0//EN
METHOD:PUBLISH
X-PUBLISHED-TTL:P3D
REFRESH-INTERVAL:P3D
CALSCALE:GREGORIAN
BEGIN:VEVENT
DTSTART;VALUE=DATE:20080910
DTEND;VALUE=DATE:20080911
TRANSP:TRANSPARENT
X-MICROSOFT-CDO-ALLDAYEVENT:TRUE
SUMMARY:Ribbon Cutting
DESCRIPTION:Wednesday\, September 10th\n Ensign Engineering & JL Johnson\, CPA\n 169 No. Main\, Ste #1 & #2\n 3 pm & 3:30 pm Respectively\n Special Business After Hours 3-6 pm
X-ALT-DESC;FMTTYPE=text/html:<p align="center"><font size="4">Wednesday\, September 10th<br />&nbsp\;Ensign Engineering &amp\; JL Johnson\, CPA<br />&nbsp\;169 No. Main\, Ste #1 &amp\; #2<br />&nbsp\;3 pm &amp\; 3:30 pm Respectively<br />&nbsp\;Special Business After Hours 3-6 pm</font></p>
LOCATION:
UID:e.125.463
SEQUENCE:3
DTSTAMP:20260424T141030Z
URL:https://business.tooelechamber.com/events/details/ribbon-cutting-09-10-2008-463
END:VEVENT

END:VCALENDAR
