BEGIN:VCALENDAR
VERSION:2.0
PRODID:-//ChamberMaster//Event Calendar 2.0//EN
METHOD:PUBLISH
X-PUBLISHED-TTL:P3D
REFRESH-INTERVAL:P3D
CALSCALE:GREGORIAN
BEGIN:VEVENT
DTSTART:20120913T180000Z
DTEND:20120913T190000Z
X-MICROSOFT-CDO-ALLDAYEVENT:FALSE
SUMMARY:Ribbon Cutting
DESCRIPTION:Ribbon Cutting\n\n	Modern Woodman Of America\n\n	September 13\, 2012 @ 12 Noon\n\n	The Chamber Building\n\n	154 South Main Street
X-ALT-DESC;FMTTYPE=text/html:<p>\n	<span style="font-size: 16px"><strong><span style="color: #b22222"><u>Ribbon Cutting</u></span><br />\n	Modern Woodman Of America<br />\n	September 13\, 2012 @ 12 Noon<br />\n	The Chamber Building<br />\n	154 South Main Street</strong></span></p>\n
LOCATION:
UID:e.125.4928
SEQUENCE:3
DTSTAMP:20260421T090121Z
URL:https://business.tooelechamber.com/events/details/ribbon-cutting-09-13-2012-4928
END:VEVENT

END:VCALENDAR
