BEGIN:VCALENDAR
VERSION:2.0
PRODID:-//ChamberMaster//Event Calendar 2.0//EN
METHOD:PUBLISH
X-PUBLISHED-TTL:P3D
REFRESH-INTERVAL:P3D
CALSCALE:GREGORIAN
BEGIN:VEVENT
DTSTART:20120918T180000Z
DTEND:20120918T190000Z
X-MICROSOFT-CDO-ALLDAYEVENT:FALSE
SUMMARY:Ribbon Cutting
DESCRIPTION:Ribbon Cutting\n\n	\n		\n			\n				\n					\n						Law Office of Spencer P. Call\, PLLC \n				\n			\n		\n	\n	September 18\, 2012 @ 12 Noon\n\n	The Chamber Building\n\n	154 South Main Street  Click here to edit...
X-ALT-DESC;FMTTYPE=text/html:<div style="color: gray">\n	<strong><span style="font-size: 16px"><span style="color: #006400"><u>Ribbon Cutting</u></span></span></strong><br />\n	<table border="0" cellpadding="0" cellspacing="0" class="txtNormal" width="100%">\n		<tbody>\n			<tr>\n				<td>\n					<div class="txtHeading">\n						<span style="font-size: 16px"><strong>Law Office of Spencer P. Call\, PLLC<span _fck_bookmark="1" style="display: none">&nbsp\;</span></strong></span></div>\n				</td>\n			</tr>\n		</tbody>\n	</table>\n	<strong><span style="font-size: 16px">September 18\, 2012 @ 12 Noon<br />\n	The Chamber Building</span></strong><br />\n	<span style="font-size: 16px"><strong>154 South Main Street&nbsp\;<span _fck_bookmark="1" style="display: none">&nbsp\;</span></strong></span>Click here to edit...</div>\n
LOCATION:
UID:e.125.4927
SEQUENCE:3
DTSTAMP:20260421T090121Z
URL:https://business.tooelechamber.com/events/details/ribbon-cutting-09-18-2012-4927
END:VEVENT

END:VCALENDAR
