BEGIN:VCALENDAR
VERSION:2.0
PRODID:-//ChamberMaster//Event Calendar 2.0//EN
METHOD:PUBLISH
X-PUBLISHED-TTL:P3D
REFRESH-INTERVAL:P3D
CALSCALE:GREGORIAN
BEGIN:VEVENT
DTSTART;VALUE=DATE:20110921
DTEND;VALUE=DATE:20110922
TRANSP:TRANSPARENT
X-MICROSOFT-CDO-ALLDAYEVENT:TRUE
SUMMARY:Ribbon Cutting
DESCRIPTION:Ribbon Cutting\n\n	Zions Bank Grantsville Location\n\n	Wednesday\, September 21\, 2011\n\n	213 East Main Street\, Grantsville\n\n	(Next to Soelberg's)
X-ALT-DESC;FMTTYPE=text/html:<p style="text-align: center">\n	<span style="font-size: 28px">Ribbon Cutting<br />\n	Zions Bank Grantsville Location<br />\n	Wednesday\, September 21\, 2011<br />\n	213 East Main Street\, Grantsville<br />\n	(Next to Soelberg&#39\;s)</span></p>\n
LOCATION:
UID:e.125.3881
SEQUENCE:3
DTSTAMP:20260422T061930Z
URL:https://business.tooelechamber.com/events/details/ribbon-cutting-09-21-2011-3881
END:VEVENT

END:VCALENDAR
