BEGIN:VCALENDAR
VERSION:2.0
PRODID:-//ChamberMaster//Event Calendar 2.0//EN
METHOD:PUBLISH
X-PUBLISHED-TTL:P3D
REFRESH-INTERVAL:P3D
CALSCALE:GREGORIAN
BEGIN:VEVENT
DTSTART:20081008T203000Z
DTEND:20081008T204000Z
X-MICROSOFT-CDO-ALLDAYEVENT:FALSE
SUMMARY:Ribbon Cutting
DESCRIPTION:Wednesday\, October 8th\ntooelemommies.com\nTooele City Park\n200 W. Vine St\, Tooele\nRibbon Cutting @ 2:30 pm
X-ALT-DESC;FMTTYPE=text/html:<p align="center"><font size="4">Wednesday\,&nbsp\;October 8th<br />tooelemommies.com</font><font size="4"><br />Tooele City Park<br />200 W. Vine St\, Tooele<br />Ribbon Cutting @ 2:30 pm</font></p>
LOCATION:
UID:e.125.472
SEQUENCE:3
DTSTAMP:20260424T122657Z
URL:https://business.tooelechamber.com/events/details/ribbon-cutting-10-08-2008-472
END:VEVENT

END:VCALENDAR
