BEGIN:VCALENDAR
VERSION:2.0
PRODID:-//ChamberMaster//Event Calendar 2.0//EN
METHOD:PUBLISH
X-PUBLISHED-TTL:P3D
REFRESH-INTERVAL:P3D
CALSCALE:GREGORIAN
BEGIN:VEVENT
DTSTART:20081010T180000Z
DTEND:20081010T180000Z
X-MICROSOFT-CDO-ALLDAYEVENT:FALSE
SUMMARY:Ribbon Cutting
DESCRIPTION:Friday\, October 10th\n Radio Shack\n 1485 No. 30 W.\, Tooele\n Ribbon Cutting- Noon
X-ALT-DESC;FMTTYPE=text/html:<p align="center"><strong><font size="4">&nbsp\;Fri</font></strong><a><span style="font-size: 8.5pt"><strong><font size="4">day\, October 10th<br />&nbsp\;Radio Shack<br />&nbsp\;1485 No. 30 W.\, Tooele<br />&nbsp\;Ribbon Cutting- Noon</font></strong></span></a></p>
LOCATION:
UID:e.125.480
SEQUENCE:3
DTSTAMP:20260424T135329Z
URL:https://business.tooelechamber.com/events/details/ribbon-cutting-10-10-2008-480
END:VEVENT

END:VCALENDAR
