BEGIN:VCALENDAR
VERSION:2.0
PRODID:-//ChamberMaster//Event Calendar 2.0//EN
METHOD:PUBLISH
X-PUBLISHED-TTL:P3D
REFRESH-INTERVAL:P3D
CALSCALE:GREGORIAN
BEGIN:VEVENT
DTSTART:20081024T180000Z
DTEND:20081024T180000Z
X-MICROSOFT-CDO-ALLDAYEVENT:FALSE
SUMMARY:Ribbon Cutting
DESCRIPTION:Friday\, October 24th \n The Difference\n 220 Millpond # 104\, Stansbury\n Ribbon Cutting- Noon
X-ALT-DESC;FMTTYPE=text/html:<p align="center"><strong><font size="4">&nbsp\;Fri</font></strong><a><strong><font size="4">day\, October 24th&nbsp\;<br />&nbsp\;The Difference<br />&nbsp\;220 Millpond # 104\, Stansbury<br />&nbsp\;Ribbon Cutting-&nbsp\;Noon</font><br /></strong></a></p>
LOCATION:
UID:e.125.479
SEQUENCE:3
DTSTAMP:20260424T122715Z
URL:https://business.tooelechamber.com/events/details/ribbon-cutting-10-24-2008-479
END:VEVENT

END:VCALENDAR
