BEGIN:VCALENDAR
VERSION:2.0
PRODID:-//ChamberMaster//Event Calendar 2.0//EN
METHOD:PUBLISH
X-PUBLISHED-TTL:P3D
REFRESH-INTERVAL:P3D
CALSCALE:GREGORIAN
BEGIN:VEVENT
DTSTART:20081029T180000Z
DTEND:20081029T180000Z
X-MICROSOFT-CDO-ALLDAYEVENT:FALSE
SUMMARY:Ribbon Cutting
DESCRIPTION:Wednesday\, October 29th\nSalt Lake/Tooele Applied Technology College\n 66 West Vine\, Tooele\n Ribbon Cutting @ Noon
X-ALT-DESC;FMTTYPE=text/html:<p align="center"><font size="4">Wednesday\,&nbsp\;October 29th<br />Salt Lake/Tooele Applied Technology College<br />&nbsp\;66 West Vine\, Tooele<br />&nbsp\;Ribbon Cutting @ Noon<br /></font></p>
LOCATION:
UID:e.125.471
SEQUENCE:3
DTSTAMP:20260424T122552Z
URL:https://business.tooelechamber.com/events/details/ribbon-cutting-10-29-2008-471
END:VEVENT

END:VCALENDAR
