BEGIN:VCALENDAR
VERSION:2.0
PRODID:-//ChamberMaster//Event Calendar 2.0//EN
METHOD:PUBLISH
X-PUBLISHED-TTL:P3D
REFRESH-INTERVAL:P3D
CALSCALE:GREGORIAN
BEGIN:VEVENT
DTSTART:20111101T180000Z
DTEND:20111101T190000Z
X-MICROSOFT-CDO-ALLDAYEVENT:FALSE
SUMMARY:Ribbon Cutting
DESCRIPTION:Ribbon Cutting \n\n	Tuesday\, November 1\, 2011 @12pm\n\n	Curves\, Tooele\n\n	61 East 1280 North\, Tooele
X-ALT-DESC;FMTTYPE=text/html:<p style="text-align: center">\n	<span style="font-size: 28px"><em><u><strong>Ribbon Cutting </strong></u></em><br />\n	Tuesday\, November 1\, 2011 @12pm<br />\n	Curves\, Tooele<br />\n	61 East 1280 North\, Tooele </span></p>\n
LOCATION:
UID:e.125.3889
SEQUENCE:3
DTSTAMP:20260422T013458Z
URL:https://business.tooelechamber.com/events/details/ribbon-cutting-11-01-2011-3889
END:VEVENT

END:VCALENDAR
