BEGIN:VCALENDAR
VERSION:2.0
PRODID:-//ChamberMaster//Event Calendar 2.0//EN
METHOD:PUBLISH
X-PUBLISHED-TTL:P3D
REFRESH-INTERVAL:P3D
CALSCALE:GREGORIAN
BEGIN:VEVENT
DTSTART:20101122T190000Z
DTEND:20101122T200000Z
X-MICROSOFT-CDO-ALLDAYEVENT:FALSE
SUMMARY:Ribbon Cutting
DESCRIPTION:Ribbon Cutting \n\n	Premier Mortgage's NEW location\n\n	Monday\, November 22\, 2010 @ noon\n\n	185 North Main Street\, Tooele
X-ALT-DESC;FMTTYPE=text/html:<p style="text-align: center">\n	<span style="font-size: 22px"><strong><u>Ribbon Cutting </u></strong><br />\n	Premier Mortgage&#39\;s NEW location<br />\n	Monday\, November 22\, 2010 @ noon<br />\n	185 North Main Street\, Tooele </span></p>\n
LOCATION:
UID:e.125.3299
SEQUENCE:3
DTSTAMP:20260422T202921Z
URL:https://business.tooelechamber.com/events/details/ribbon-cutting-11-22-2010-3299
END:VEVENT

END:VCALENDAR
