BEGIN:VCALENDAR
VERSION:2.0
PRODID:-//ChamberMaster//Event Calendar 2.0//EN
METHOD:PUBLISH
X-PUBLISHED-TTL:P3D
REFRESH-INTERVAL:P3D
CALSCALE:GREGORIAN
BEGIN:VEVENT
DTSTART:20081212T190000Z
DTEND:20081212T190000Z
X-MICROSOFT-CDO-ALLDAYEVENT:FALSE
SUMMARY:Ribbon Cutting
DESCRIPTION:Friday\, December 12th\, 2008 \n 12:00 pm\n Redtag Outlet\n 213 No. Main St.\, Tooele
X-ALT-DESC;FMTTYPE=text/html:<p align="center"><strong>&nbsp\;</strong><font face="Arial" size="2"><strong><font size="4">Friday\, December 12th\, 2008 <br />&nbsp\;12:00 pm<br />&nbsp\;Redtag Outlet<br />&nbsp\;213 No. Main St.\, Tooele</font> </strong></font></p>
LOCATION:
UID:e.125.502
SEQUENCE:3
DTSTAMP:20260424T085917Z
URL:https://business.tooelechamber.com/events/details/ribbon-cutting-12-12-2008-502
END:VEVENT

END:VCALENDAR
