BEGIN:VCALENDAR
VERSION:2.0
PRODID:-//ChamberMaster//Event Calendar 2.0//EN
METHOD:PUBLISH
X-PUBLISHED-TTL:P3D
REFRESH-INTERVAL:P3D
CALSCALE:GREGORIAN
BEGIN:VEVENT
DTSTART:20111212T190000Z
DTEND:20111212T193000Z
X-MICROSOFT-CDO-ALLDAYEVENT:FALSE
SUMMARY:Ribbon Cutting
DESCRIPTION:Ribbon Cutting\n\n	Monday December 12th 2011 @ 12pm\n\n	287 North Main Tooele\n\n	Advanced Massage\n\n	by Mary Brasby\n\n	@ Shear Pleasure
X-ALT-DESC;FMTTYPE=text/html:<p style="text-align: center">\n	<span style="font-size: 20px"><strong><u>Ribbon Cutting</u><br />\n	Monday&nbsp\;December 12th 2011 @ 12pm<br />\n	287 North Main Tooele<br />\n	Advanced Massage<br />\n	by Mary Brasby<br />\n	@ Shear Pleasure</strong></span><br />\n	&nbsp\;</p>\n
LOCATION:
UID:e.125.3946
SEQUENCE:3
DTSTAMP:20260421T233556Z
URL:https://business.tooelechamber.com/events/details/ribbon-cutting-12-12-2011-3946
END:VEVENT

END:VCALENDAR
