BEGIN:VCALENDAR
VERSION:2.0
PRODID:-//ChamberMaster//Event Calendar 2.0//EN
METHOD:PUBLISH
X-PUBLISHED-TTL:P3D
REFRESH-INTERVAL:P3D
CALSCALE:GREGORIAN
BEGIN:VEVENT
DTSTART:20120224T190000Z
DTEND:20120224T200000Z
X-MICROSOFT-CDO-ALLDAYEVENT:FALSE
SUMMARY:Ribbon Cutting- 2 brothers Verizon Communications
DESCRIPTION:Ribbon Cutting 2 Brothers Verizon Communications\n\nFeb 24th\n\n12 noon\n\n6727 North Highway 36 #2\n\nStansbury Park\, Ut
X-ALT-DESC;FMTTYPE=text/html:<strong><span style="font-size: 20px">Ribbon Cutting 2 Brothers Verizon Communications<br />\nFeb 24th<br />\n12 noon<br />\n6727 North Highway 36 #2<br />\nStansbury Park\, Ut</span></strong>
LOCATION:
UID:e.125.4802
SEQUENCE:3
DTSTAMP:20260421T203424Z
URL:https://business.tooelechamber.com/events/details/ribbon-cutting-2-brothers-verizon-communications-02-24-2012-4802
END:VEVENT

END:VCALENDAR
