BEGIN:VCALENDAR
VERSION:2.0
PRODID:-//ChamberMaster//Event Calendar 2.0//EN
METHOD:PUBLISH
X-PUBLISHED-TTL:P3D
REFRESH-INTERVAL:P3D
CALSCALE:GREGORIAN
BEGIN:VEVENT
DTSTART:20090625T220000Z
DTEND:20090625T223000Z
X-MICROSOFT-CDO-ALLDAYEVENT:FALSE
SUMMARY:Ribbon Cutting - Beehive Homes
DESCRIPTION:Ribbon CuttingBeehive Homes464 South Main\, Tooele4 pmCome out & support our Chamber Member
X-ALT-DESC;FMTTYPE=text/html:<div align="center"><font size="5">Ribbon Cutting</font></div><div align="center"><font size="5">Beehive Homes</font></div><div align="center"><font size="5">464 South Main\, Tooele</font></div><div align="center"><font size="5">4 pm</font></div><div align="center"><font size="5">Come out &amp\; support our Chamber Member</font></div>
LOCATION:
UID:e.125.2532
SEQUENCE:3
DTSTAMP:20260423T232231Z
URL:https://business.tooelechamber.com/events/details/ribbon-cutting-beehive-homes-06-25-2009-2532
END:VEVENT

END:VCALENDAR
