BEGIN:VCALENDAR
VERSION:2.0
PRODID:-//ChamberMaster//Event Calendar 2.0//EN
METHOD:PUBLISH
X-PUBLISHED-TTL:P3D
REFRESH-INTERVAL:P3D
CALSCALE:GREGORIAN
BEGIN:VEVENT
DTSTART:20130321T180000Z
DTEND:20130321T190000Z
X-MICROSOFT-CDO-ALLDAYEVENT:FALSE
SUMMARY:Ribbon Cutting-Decadence Boutique
DESCRIPTION:RIBBON CUTTING - \n\n	March 21\, 2013 - Thursday\n\n	12:00 PM\n\n	Decadence Boutique\n\n	Lindsay Christiansen\n\n	183 East Main Street\n\n	Grantsville\, Utah  84029Click here to edit...
X-ALT-DESC;FMTTYPE=text/html:<div style="color: gray">\n	<span style="font-size: 18px"><span style="color: firebrick"><span style="font-family: tahoma\, sans-serif"><u><span style="font-family: tahoma">RIBBON CUTTING </span></u></span></span></span><span style="font-size: 10.5pt"><span style="color: firebrick"><span style="font-family: tahoma\, sans-serif"><span style="font-size: 18px">-</span> </span></span></span><br />\n	<span style="font-size: 10pt"><span style="color: firebrick"><span style="font-family: arial\, sans-serif">March 21\, 2013 - Thursday<br />\n	12:00 PM<br />\n	<span style="font-size: 18px">Decadence Boutique</span><br />\n	Lindsay Christiansen<br />\n	183 East Main Street<br />\n	Grantsville\, Utah&nbsp\; 84029</span></span></span>Click here to edit...</div>\n
LOCATION:
UID:e.125.4996
SEQUENCE:3
DTSTAMP:20260420T222028Z
URL:https://business.tooelechamber.com/events/details/ribbon-cutting-decadence-boutique-03-21-2013-4996
END:VEVENT

END:VCALENDAR
