BEGIN:VCALENDAR
VERSION:2.0
PRODID:-//ChamberMaster//Event Calendar 2.0//EN
METHOD:PUBLISH
X-PUBLISHED-TTL:P3D
REFRESH-INTERVAL:P3D
CALSCALE:GREGORIAN
BEGIN:VEVENT
DTSTART:20130918T180000Z
DTEND:20130918T190000Z
X-MICROSOFT-CDO-ALLDAYEVENT:FALSE
SUMMARY:Ribbon Cutting- Kirk Hotel
DESCRIPTION:Ribbon Cutting\n\nKirk Hotel\n\nWednesday\, September 18th\, 2013\n\n@ 12:00 Noon\n\n57 West Vine Street
X-ALT-DESC;FMTTYPE=text/html:<span style="font-size: 18px">Ribbon Cutting<br />\nKirk Hotel<br />\nWednesday\, September 18th\, 2013<br />\n@ 12:00 Noon<br />\n57 West Vine Street</span>
LOCATION:
UID:e.125.5047
SEQUENCE:3
DTSTAMP:20260420T114542Z
URL:https://business.tooelechamber.com/events/details/ribbon-cutting-kirk-hotel-09-18-2013-5047
END:VEVENT

END:VCALENDAR
