BEGIN:VCALENDAR
VERSION:2.0
PRODID:-//ChamberMaster//Event Calendar 2.0//EN
METHOD:PUBLISH
X-PUBLISHED-TTL:P3D
REFRESH-INTERVAL:P3D
CALSCALE:GREGORIAN
BEGIN:VEVENT
DTSTART:20090424T210000Z
DTEND:20090424T220000Z
X-MICROSOFT-CDO-ALLDAYEVENT:FALSE
SUMMARY:Ribbon Cutting- Ridgeline Land Surveying
DESCRIPTION:Ridgeline Land Surveying272 North BroadwayFriday\, April 24thTime: 3 pmCome on out and support our Chamber Member
X-ALT-DESC;FMTTYPE=text/html:<div align="center"><font size="5">Ridgeline Land Surveying</font></div><div align="center"><font size="5">272 North Broadway</font></div><div align="center"><font size="5">Friday\, April 24th</font></div><div align="center"><font size="5">Time: 3 pm</font></div><div align="center"><font size="5">Come on out and support our </font></div><div align="center"><font size="5">Chamber Member</font></div>
LOCATION:
UID:e.125.1238
SEQUENCE:3
DTSTAMP:20260424T040245Z
URL:https://business.tooelechamber.com/events/details/ribbon-cutting-ridgeline-land-surveying-04-24-2009-1238
END:VEVENT

END:VCALENDAR
