BEGIN:VCALENDAR
VERSION:2.0
PRODID:-//ChamberMaster//Event Calendar 2.0//EN
METHOD:PUBLISH
X-PUBLISHED-TTL:P3D
REFRESH-INTERVAL:P3D
CALSCALE:GREGORIAN
BEGIN:VEVENT
DTSTART:20080213T200000Z
DTEND:20080213T200000Z
X-MICROSOFT-CDO-ALLDAYEVENT:FALSE
SUMMARY:Ribbon Cutting\, Ultimate Catering
DESCRIPTION:Ribbon CuttingUltimate Catering
X-ALT-DESC;FMTTYPE=text/html:<div>Ribbon Cutting</div><div>Ultimate Catering</div><div>&nbsp\;</div>
LOCATION:Eagles LodgeAfter the Luncheon50 S. 1st StreetTooele\, UT 84074
UID:e.125.228
SEQUENCE:3
DTSTAMP:20260425T005629Z
URL:https://business.tooelechamber.com/events/details/ribbon-cutting-ultimate-catering-02-13-2008-228
END:VEVENT

END:VCALENDAR
