BEGIN:VCALENDAR
VERSION:2.0
PRODID:-//ChamberMaster//Event Calendar 2.0//EN
METHOD:PUBLISH
X-PUBLISHED-TTL:P3D
REFRESH-INTERVAL:P3D
CALSCALE:GREGORIAN
BEGIN:VEVENT
DTSTART:20111112T023000Z
DTEND:20111116T043000Z
X-MICROSOFT-CDO-ALLDAYEVENT:FALSE
SUMMARY:Romeo and Juliet - Together(and Alive!) At Last
DESCRIPTION:Clarke N. Johnsen Jr High in Tooele will be performing Romeo and Juliet   Together (and Alive!) at Last on November 11\, 12\, 14\, & 15 at 7:30 PM.  When Ed and Lucy find out their friends Pete and Anabell are in love but too shy to say so\, they hatch a plan to make them be Romeo and Juliet in their own production of the classic Shakespeare play.  They put it together in two weeks all on their own.  Comedy abounds when lines are forgotten\, costumes rip\, sets crash down\, and lights go haywire.  Yet\, in spite of it all\, love triumphs in the end.  It's a wonderful show for all ages.  $5 Adults $3 Students/Children
X-ALT-DESC;FMTTYPE=text/html:<span class="Apple-style-span" style="color: rgb(31\, 73\, 125)\; font-family: Calibri\, sans-serif\; font-size: 15px\; ">Clarke N. Johnsen Jr High in Tooele will be performing&nbsp\;<u>Romeo and Juliet &ndash\; Together (and Alive!) at Last</u>&nbsp\;on November 11\, 12\, 14\, &amp\; 15 at 7:30 PM.&nbsp\; When Ed and Lucy find out their friends Pete and Anabell are in love but too shy to say so\, they hatch a plan to make them be Romeo and Juliet in their own production of the classic Shakespeare play.&nbsp\; They put it together in two weeks all on their own.&nbsp\; Comedy abounds when lines are forgotten\, costumes rip\, sets crash down\, and lights go haywire.&nbsp\; Yet\, in spite of it all\, love triumphs in the end.&nbsp\; It&rsquo\;s a wonderful show for all ages.&nbsp\; $5 Adults $3 Students/Children</span>
LOCATION:Clarke N. Johnsen Junior High School
UID:e.125.3887
SEQUENCE:3
DTSTAMP:20260422T014034Z
URL:https://business.tooelechamber.com/events/details/romeo-and-juliet-together-and-alive-at-last-11-11-2011-3887
END:VEVENT

END:VCALENDAR
