BEGIN:VCALENDAR
VERSION:2.0
PRODID:-//ChamberMaster//Event Calendar 2.0//EN
METHOD:PUBLISH
X-PUBLISHED-TTL:P3D
REFRESH-INTERVAL:P3D
CALSCALE:GREGORIAN
BEGIN:VEVENT
DTSTART:20110812T233000Z
DTEND:20110813T030000Z
X-MICROSOFT-CDO-ALLDAYEVENT:FALSE
SUMMARY:Rotary Nightglow Golf Tournament
DESCRIPTION:Tooele Valley Rotary Club Presents:\n\n	Rotary Nightglow Golf Tournament\n\n	Friday\, August 12\, 2011\n\n	Registration @ 4:30pm - Shot Gun Start @ 5:30pm\n\n	Oquirrh Hills Golf Course\n\n	1255 East Vine Street\, Tooele\n\n	 \n\n	Four person scramble\n\n	9 holes daylight/9 holes at night\n\n	Dinner is between daylight 9 holes and nighttime 9 holes\n\n	 \n\n	$75 person or $300 team\n\n	 \n\n	To register or for more details\, contact: Karlene Wells 435-882-2811\n\n	 \n\n	or Tye Hoffmann 435-833-9440 or 435-830-0917 Fax: 435-833-0812
X-ALT-DESC;FMTTYPE=text/html:<p style="text-align: center">\n	<span style="font-size: 16px">Tooele Valley Rotary Club Presents:<br />\n	Rotary Nightglow Golf Tournament</span></p>\n<p style="text-align: center">\n	<span style="font-size: 16px">Friday\, August 12\, 2011</span></p>\n<p style="text-align: center">\n	<span style="font-size: 16px">Registration @ 4:30pm - Shot Gun Start @ 5:30pm</span></p>\n<p style="text-align: center">\n	<span style="font-size: 16px">Oquirrh Hills Golf Course<br />\n	1255 East Vine Street\, Tooele</span><br />\n	&nbsp\;</p>\n<p style="text-align: center">\n	<span style="font-size: 16px">Four person scramble<br />\n	9 holes daylight/9 holes at night<br />\n	Dinner is between daylight 9 holes and nighttime 9 holes</span><br />\n	&nbsp\;</p>\n<p>\n	<span style="font-size: 16px">$75 person or $300 team</span><br />\n	&nbsp\;</p>\n<p>\n	<span style="font-size: 16px">To register or for more details\, contact: Karlene Wells 435-882-2811</span><br />\n	&nbsp\;</p>\n<p>\n	<span style="font-size: 16px">or Tye Hoffmann 435-833-9440 or 435-830-0917 Fax: 435-833-0812</span><br />\n	<span _fck_bookmark="1" style="display: none">&nbsp\;</span></p>\n
LOCATION:
UID:e.125.3707
SEQUENCE:3
DTSTAMP:20260422T062234Z
URL:https://business.tooelechamber.com/events/details/rotary-nightglow-golf-tournament-08-12-2011-3707
END:VEVENT

END:VCALENDAR
