BEGIN:VCALENDAR
VERSION:2.0
PRODID:-//ChamberMaster//Event Calendar 2.0//EN
METHOD:PUBLISH
X-PUBLISHED-TTL:P3D
REFRESH-INTERVAL:P3D
CALSCALE:GREGORIAN
BEGIN:VEVENT
DTSTART:20080511T030000Z
DTEND:20080511T030000Z
X-MICROSOFT-CDO-ALLDAYEVENT:FALSE
SUMMARY:Royal Bliss in Concert at Tracks
DESCRIPTION:Royal Bliss in concert Tickets available at Tracks or on Smithtix.com
X-ALT-DESC;FMTTYPE=text/html:<div><span style="font-size: 12pt\; font-family: &quot\;Times New Roman&quot\;\; mso-fareast-font-family: 'Times New Roman'\; mso-font-kerning: 14.0pt\; mso-ansi-language: EN-US\; mso-fareast-language: EN-US\; mso-bidi-language: AR-SA">Royal Bliss in concert Tickets available at Tracks or on Smithtix.com</span></div>
LOCATION:Tracks Brewery1641 No. Main St.\, Tooele
UID:e.125.398
SEQUENCE:3
DTSTAMP:20260424T205038Z
URL:https://business.tooelechamber.com/events/details/royal-bliss-in-concert-at-tracks-05-10-2008-398
END:VEVENT

END:VCALENDAR
