BEGIN:VCALENDAR
VERSION:2.0
PRODID:-//ChamberMaster//Event Calendar 2.0//EN
METHOD:PUBLISH
X-PUBLISHED-TTL:P3D
REFRESH-INTERVAL:P3D
CALSCALE:GREGORIAN
BEGIN:VEVENT
DTSTART;VALUE=DATE:20121201
DTEND;VALUE=DATE:20121202
TRANSP:TRANSPARENT
X-MICROSOFT-CDO-ALLDAYEVENT:TRUE
SUMMARY:Santa Parade
DESCRIPTION:Tooele County Chamber of Commerce & Mountain West Medical Center Present: Annual Santa Parade\n\n	Saturday\, December 1st @ 10am\n\n	Come meet Santa at City Hall after parade.\n\n	\n\n	FREE Cookies\,\n\n	hot chocolate and\n\n	candy canes.\n\n	\n\n	For more information contact the Chamber Office (435)882-0690 or staff@tooelechamber.com\n\n	Click here to edit...
X-ALT-DESC;FMTTYPE=text/html:<div style="color: gray">\n	&nbsp\;<span style="font-size: 16px"><span style="color: #ff0000"><strong><u><span style="font-family: arial\,sans-serif">Tooele County Chamber of Commerce &amp\; Mountain West Medical Center Present: Annual Santa Parade</span></u></strong></span></span><br />\n	<span style="font-size: 14px"><span style="color: #008000"><strong><span style="font-family: arial\,sans-serif">Saturday\, December 1<sup>st</sup> @ 10am</span></strong><br />\n	<strong><span style="font-family: arial\,sans-serif">Come meet Santa at City Hall after parade.</span></strong></span><br />\n	<br />\n	<span style="color: #ff0000"><span style="font-family: comic sans ms"><strong>FREE Cookies\,<br />\n	hot chocolate and<br />\n	candy canes.</strong></span></span><br />\n	<br />\n	<span style="color: #008000"><strong><span style="font-family: arial\,sans-serif">For more information contact the Chamber Office (435)882-0690 or </span></strong></span></span><span style="color: #008000"><span style="color: #008000"><a href="mailto:staff@tooelechamber.com"><strong><span style="font-family: arial\,sans-serif">staff@tooelechamber.com</span></strong></a></span></span><span style="font-size: 14px"><span style="color: #008000"></span></span><br />\n	Click here to edit...</div>\n
LOCATION:
UID:e.125.4673
SEQUENCE:3
DTSTAMP:20260421T032014Z
URL:https://business.tooelechamber.com/events/details/santa-parade-12-01-2012-4673
END:VEVENT

END:VCALENDAR
