BEGIN:VCALENDAR
VERSION:2.0
PRODID:-//ChamberMaster//Event Calendar 2.0//EN
METHOD:PUBLISH
X-PUBLISHED-TTL:P3D
REFRESH-INTERVAL:P3D
CALSCALE:GREGORIAN
BEGIN:VEVENT
DTSTART:20101106T200000Z
DTEND:20101106T220000Z
X-MICROSOFT-CDO-ALLDAYEVENT:FALSE
SUMMARY:Scentsy Open House
DESCRIPTION:You are invited to a Scentsy Open House! Im hosting a fabulous Scentsy Open House to kick off the Holiday Season ~ Come smell all the scents - over 80! Check out our Plug Ins\, Car Candles\, Room Sprays and Travel Tins. Don't forget to check out our Multi Packs! See all the beautiful warmers including our new Mid-size Warmers\, perfect for dorm rooms\, offices\, and classrooms and also our 2010 holiday line up (Our Holiday Line will... sell extremely fast and when they are gone they are gone.)\n\n\n\nCome at your leisure ~ Food\, appetizers\, drinks and lots of fun company! Join us for the entire 3 hours or just 15 minutes! Bring all your friends and family. The more the merrier. Most items will be available for cash and carry~ Don't miss out on this event! \n\n\n\nWondering about price~ Don't worry!\n\nScentsy Car Candle~$3\n\nScentsy Room Spray~$8\n\nScentsy 6pk Bar~$5 (wow)\n\nScentsy Brick~$20\n\nScentsy Travel Tin~$5\n\nScentsy Full Size Warmers~$30\n\nScentsy Mid-Size Warmers~$25\n\nPlug-In Scentsy Warmers~$15\n\n\n\nWe also have Multi Packs to even save more money. Christmas is around the corner. They make perfect gifts. They even have a mens line~\n\n\n\nDoor prizes will be available for all that attend (on-line or in person) and place an order or purchase a product at this the event.\n\n\n\n~Grand Prize will be a Full Scentsy Warmer~\n\n\n\nBook a Basket or House party or join our fun team and get a free Plug-In Warmer of your choice!\n\n\n\nFor all you wonderful people from out of town or for those who can not attend\, don't feel left out~\n\nGo to my website gloriak.scentsy.us and place an order\n\nor call or text me at 801-433-7333\n\nYour name will still go into the drawings and your product will be shipped directly to your address~You still can be involved.\n\nHope to See you all there!
X-ALT-DESC;FMTTYPE=text/html:You are invited to a Scentsy Open House! Im hosting a fabulous Scentsy Open House to kick off the Holiday Season ~ Come smell all the scents - over 80! Check out our Plug Ins\, Car Candles\, Room Sprays and Travel Tins. Don't forget to check out our Multi Packs! See all the beautiful warmers including our new Mid-size Warmers\, perfect for dorm rooms\, offices\, and classrooms and also our 2010 holiday line up (Our Holiday Line will... sell extremely fast and when they are gone they are gone.)\n<br>\n<br>Come at your leisure ~ Food\, appetizers\, drinks and lots of fun company! Join us for the entire 3 hours or just 15 minutes! Bring all your friends and family. The more the merrier. Most items will be available for cash and carry~ Don't miss out on this event! \n<br>\n<br>Wondering about price~ Don't worry!\n<br>Scentsy Car Candle~$3\n<br>Scentsy Room Spray~$8\n<br>Scentsy 6pk Bar~$5 (wow)\n<br>Scentsy Brick~$20\n<br>Scentsy Travel Tin~$5\n<br>Scentsy Full Size Warmers~$30\n<br>Scentsy Mid-Size Warmers~$25\n<br>Plug-In Scentsy Warmers~$15\n<br>\n<br>We also have Multi Packs to even save more money. Christmas is around the corner. They make perfect gifts. They even have a mens line~\n<br>\n<br>Door prizes will be available for all that attend (on-line or in person) and place an order or purchase a product at this the event.\n<br>\n<br>~Grand Prize will be a Full Scentsy Warmer~\n<br>\n<br>Book a Basket or House party or join our fun team and get a free Plug-In Warmer of your choice!\n<br>\n<br>For all you wonderful people from out of town or for those who can not attend\, don't feel left out~\n<br>Go to my website gloriak.scentsy.us and place an order\n<br>or call or text me at 801-433-7333\n<br>Your name will still go into the drawings and your product will be shipped directly to your address~You still can be involved.\n<br>Hope to See you all there!
LOCATION:380 South 320 West\, Tooele Ut
UID:e.125.3248
SEQUENCE:3
DTSTAMP:20260422T202926Z
URL:https://business.tooelechamber.com/events/details/scentsy-open-house-11-06-2010-3248
END:VEVENT

END:VCALENDAR
