BEGIN:VCALENDAR
VERSION:2.0
PRODID:-//ChamberMaster//Event Calendar 2.0//EN
METHOD:PUBLISH
X-PUBLISHED-TTL:P3D
REFRESH-INTERVAL:P3D
CALSCALE:GREGORIAN
BEGIN:VEVENT
DTSTART;VALUE=DATE:20110618
DTEND;VALUE=DATE:20110619
TRANSP:TRANSPARENT
X-MICROSOFT-CDO-ALLDAYEVENT:TRUE
SUMMARY:Search & Rescue Demolition Derby
DESCRIPTION:Tooele County Search & Rescue\n\n	Demolition Derby\n\n	Saturday\, June 18\, 2011\n\n	Deseret Peak Complex \n\n	2930 West Hwy 112\, Tooele
X-ALT-DESC;FMTTYPE=text/html:<p style="text-align: center">\n	<span style="font-size: 20px">Tooele County Search &amp\; Rescue<br />\n	Demolition Derby<br />\n	Saturday\, June 18\, 2011<br />\n	Deseret Peak Complex&nbsp\;<br />\n	2930 West Hwy 112\, Tooele </span></p>\n
LOCATION:
UID:e.125.3539
SEQUENCE:3
DTSTAMP:20260422T091604Z
URL:https://business.tooelechamber.com/events/details/search-rescue-demolition-derby-06-18-2011-3539
END:VEVENT

END:VCALENDAR
