BEGIN:VCALENDAR
VERSION:2.0
PRODID:-//ChamberMaster//Event Calendar 2.0//EN
METHOD:PUBLISH
X-PUBLISHED-TTL:P3D
REFRESH-INTERVAL:P3D
CALSCALE:GREGORIAN
BEGIN:VEVENT
DTSTART;VALUE=DATE:20140117
DTEND;VALUE=DATE:20140119
TRANSP:TRANSPARENT
X-MICROSOFT-CDO-ALLDAYEVENT:TRUE
SUMMARY:Shut off day for delinquent accts--$50 fee applied
DESCRIPTION:Delinquent accounts will be shut off.  \n$50 fee applied to all accounts not paid.
X-ALT-DESC;FMTTYPE=text/html:Delinquent accounts will be shut off.  \n$50 fee applied to all accounts not paid.
LOCATION:
UID:e.125.5675
SEQUENCE:3
DTSTAMP:20260420T060038Z
URL:https://business.tooelechamber.com/events/details/shut-off-day-for-delinquent-accts-50-fee-applied-01-17-2014-5675
END:VEVENT

END:VCALENDAR
