BEGIN:VCALENDAR
VERSION:2.0
PRODID:-//ChamberMaster//Event Calendar 2.0//EN
METHOD:PUBLISH
X-PUBLISHED-TTL:P3D
REFRESH-INTERVAL:P3D
CALSCALE:GREGORIAN
BEGIN:VEVENT
DTSTART;VALUE=DATE:20110701
DTEND;VALUE=DATE:20110703
TRANSP:TRANSPARENT
X-MICROSOFT-CDO-ALLDAYEVENT:TRUE
SUMMARY:Sidewalk Sale by Downtown merchants
DESCRIPTION:Sidewalk Sale by Downtown merchants\n\n	Downtown Tooele area!!
X-ALT-DESC;FMTTYPE=text/html:<p style="text-align: center">\n	<span style="font-size: 28px">Sidewalk Sale by Downtown merchants<br />\n	Downtown Tooele area!!<span _fck_bookmark="1" style="display: none">&nbsp\;</span></span></p>\n
LOCATION:
UID:e.125.3721
SEQUENCE:3
DTSTAMP:20260422T075425Z
URL:https://business.tooelechamber.com/events/details/sidewalk-sale-by-downtown-merchants-07-01-2011-3721
END:VEVENT

END:VCALENDAR
