BEGIN:VCALENDAR
VERSION:2.0
PRODID:-//ChamberMaster//Event Calendar 2.0//EN
METHOD:PUBLISH
X-PUBLISHED-TTL:P3D
REFRESH-INTERVAL:P3D
CALSCALE:GREGORIAN
BEGIN:VEVENT
DTSTART:20080430T193000Z
DTEND:20080430T193000Z
X-MICROSOFT-CDO-ALLDAYEVENT:FALSE
SUMMARY:Spanish Story Time
DESCRIPTION:Dia de los Ninos/ dia de los librosCelebrate children through and celebrate books throughreading with a Spanish story timeon April 30th\, 2008 at 1:30 pmAt the Tooele City Library128 W. Vine St.\, Tooele
X-ALT-DESC;FMTTYPE=text/html:<div>Dia de los Ninos/ dia de los libros</div><div>Celebrate children through and celebrate books through</div><div>reading with a Spanish story time</div><div>on April 30th\, 2008 at 1:30 pm</div><div>At the Tooele City Library</div><div>128 W. Vine St.\, Tooele</div><div>&nbsp\;</div>
LOCATION:
UID:e.125.391
SEQUENCE:3
DTSTAMP:20260424T232145Z
URL:https://business.tooelechamber.com/events/details/spanish-story-time-04-30-2008-391
END:VEVENT

END:VCALENDAR
