BEGIN:VCALENDAR
VERSION:2.0
PRODID:-//ChamberMaster//Event Calendar 2.0//EN
METHOD:PUBLISH
X-PUBLISHED-TTL:P3D
REFRESH-INTERVAL:P3D
CALSCALE:GREGORIAN
BEGIN:VEVENT
DTSTART;VALUE=DATE:20140527
DTEND;VALUE=DATE:20140529
TRANSP:TRANSPARENT
X-MICROSOFT-CDO-ALLDAYEVENT:TRUE
SUMMARY:SRP Registration Starts
DESCRIPTION:Registration beings:\n\nGrantsville City Library's  Summer Reading Program is free to everyone.
X-ALT-DESC;FMTTYPE=text/html:Registration beings:\n\nGrantsville City Library's  Summer Reading Program is free to everyone.\n\n
LOCATION:
UID:e.125.5484
SEQUENCE:3
DTSTAMP:20260419T200842Z
URL:https://business.tooelechamber.com/events/details/srp-registration-starts-05-27-2014-5484
END:VEVENT

END:VCALENDAR
