BEGIN:VCALENDAR
VERSION:2.0
PRODID:-//ChamberMaster//Event Calendar 2.0//EN
METHOD:PUBLISH
X-PUBLISHED-TTL:P3D
REFRESH-INTERVAL:P3D
CALSCALE:GREGORIAN
BEGIN:VEVENT
DTSTART;VALUE=DATE:20110909
DTEND;VALUE=DATE:20110911
TRANSP:TRANSPARENT
X-MICROSOFT-CDO-ALLDAYEVENT:TRUE
SUMMARY:St. Marguerite's Annual Fall Festival
DESCRIPTION:St. Marguerite's Annual Fall Festival \n\n	September 9th-10th\, 2011\n\n	 \n\n	Contact: 435-882-3860
X-ALT-DESC;FMTTYPE=text/html:<p style="text-align: center">\n	<span style="font-size: 20px">St. Marguerite&#39\;s Annual Fall Festival </span></p>\n<p style="text-align: center">\n	<span style="font-size: 20px">September 9th-10th\, 2011</span><br />\n	&nbsp\;</p>\n<p style="text-align: center">\n	<span style="font-size: 20px">Contact: 435-882-3860</span><br />\n	&nbsp\;</p>\n
LOCATION:
UID:e.125.3569
SEQUENCE:3
DTSTAMP:20260422T045346Z
URL:https://business.tooelechamber.com/events/details/st-marguerite-s-annual-fall-festival-09-09-2011-3569
END:VEVENT

END:VCALENDAR
