BEGIN:VCALENDAR
VERSION:2.0
PRODID:-//ChamberMaster//Event Calendar 2.0//EN
METHOD:PUBLISH
X-PUBLISHED-TTL:P3D
REFRESH-INTERVAL:P3D
CALSCALE:GREGORIAN
BEGIN:VEVENT
DTSTART:20120717T220000Z
DTEND:20120717T230000Z
X-MICROSOFT-CDO-ALLDAYEVENT:FALSE
SUMMARY:Stansbury Park Improvment District Board Meetings
DESCRIPTION:Stansbury Park Improvement District\n\nBoard Meetings\n\n4-5 p.m.\n\n30 Plaza\, Stansbury Park
X-ALT-DESC;FMTTYPE=text/html:<span style="font-size: 20px"><strong>Stansbury Park Improvement District<br />\nBoard Meetings<br />\n4-5 p.m.<br />\n30 Plaza\, Stansbury Park</strong></span>
LOCATION:
UID:e.125.4751
SEQUENCE:3
DTSTAMP:20260421T125405Z
URL:https://business.tooelechamber.com/events/details/stansbury-park-improvment-district-board-meetings-07-17-2012-4751
END:VEVENT

END:VCALENDAR
