BEGIN:VCALENDAR
VERSION:2.0
PRODID:-//ChamberMaster//Event Calendar 2.0//EN
METHOD:PUBLISH
X-PUBLISHED-TTL:P3D
REFRESH-INTERVAL:P3D
CALSCALE:GREGORIAN
BEGIN:VEVENT
DTSTART:20120821T220000Z
DTEND:20120821T230000Z
X-MICROSOFT-CDO-ALLDAYEVENT:FALSE
SUMMARY:Stansbury Park Improvment District Board Meetings
DESCRIPTION:Stansbury Park Improvent District\n\nBoard Meetings\n\n4-5 p.m.\n\n30 Plaza\, Stansbury Park
X-ALT-DESC;FMTTYPE=text/html:<span style="font-size: 20px"><strong>Stansbury Park Improvent District<br />\nBoard Meetings<br />\n4-5 p.m.<br />\n30 Plaza\, Stansbury Park</strong></span>
LOCATION:
UID:e.125.4754
SEQUENCE:3
DTSTAMP:20260421T103622Z
URL:https://business.tooelechamber.com/events/details/stansbury-park-improvment-district-board-meetings-08-21-2012-4754
END:VEVENT

END:VCALENDAR
