BEGIN:VCALENDAR
VERSION:2.0
PRODID:-//ChamberMaster//Event Calendar 2.0//EN
METHOD:PUBLISH
X-PUBLISHED-TTL:P3D
REFRESH-INTERVAL:P3D
CALSCALE:GREGORIAN
BEGIN:VEVENT
DTSTART:20121129T020000Z
DTEND:20121129T030000Z
X-MICROSOFT-CDO-ALLDAYEVENT:FALSE
SUMMARY:Stansbury Service Agency
DESCRIPTION:Stansbury Service Agency\n\nBoard Meetings\n\n7-8 p.m.\n\n1 Country Club\, Stansbury Park
X-ALT-DESC;FMTTYPE=text/html:<span style="font-size: 20px"><strong>Stansbury Service Agency<br />\nBoard Meetings<br />\n7-8 p.m.<br />\n1 Country Club\, Stansbury Park<span _fck_bookmark="1" style="display: none">&nbsp\;</span></strong></span>
LOCATION:
UID:e.125.4762
SEQUENCE:3
DTSTAMP:20260421T052425Z
URL:https://business.tooelechamber.com/events/details/stansbury-service-agency-11-28-2012-4762
END:VEVENT

END:VCALENDAR
