BEGIN:VCALENDAR
VERSION:2.0
PRODID:-//ChamberMaster//Event Calendar 2.0//EN
METHOD:PUBLISH
X-PUBLISHED-TTL:P3D
REFRESH-INTERVAL:P3D
CALSCALE:GREGORIAN
BEGIN:VEVENT
DTSTART:20140808T050000Z
DTEND:20140808T070000Z
X-MICROSOFT-CDO-ALLDAYEVENT:FALSE
SUMMARY:Stockton Day's Softball Tournament
DESCRIPTION:Softball game at 5:00pm. & 7:00p.m. to kick off Stockton Days.\nContact Gary Hunter for more informaiton.
X-ALT-DESC;FMTTYPE=text/html:Softball game at 5:00pm. & 7:00p.m. to kick off Stockton Days.\nContact Gary Hunter for more informaiton.\n
LOCATION:Stockton Town Park
UID:e.125.5633
SEQUENCE:3
DTSTAMP:20260419T143034Z
URL:https://business.tooelechamber.com/events/details/stockton-day-s-softball-tournament-08-07-2014-5633
END:VEVENT

END:VCALENDAR
