BEGIN:VCALENDAR
VERSION:2.0
PRODID:-//ChamberMaster//Event Calendar 2.0//EN
METHOD:PUBLISH
X-PUBLISHED-TTL:P3D
REFRESH-INTERVAL:P3D
CALSCALE:GREGORIAN
BEGIN:VEVENT
DTSTART:20120404T010000Z
DTEND:20120404T020000Z
X-MICROSOFT-CDO-ALLDAYEVENT:FALSE
SUMMARY:Stockton Planning & Zoning Meeting
DESCRIPTION:Stockton Planning & Zoning Meeting\n\n7-8 p.m.\n\nStockton Town Hall
X-ALT-DESC;FMTTYPE=text/html:<span style="font-size: 20px"><strong>Stockton Planning &amp\; Zoning Meeting<br />\n7-8 p.m.<br />\nStockton Town Hall<span _fck_bookmark="1" style="display: none">&nbsp\;</span></strong></span>
LOCATION:
UID:e.125.4769
SEQUENCE:3
DTSTAMP:20260421T191947Z
URL:https://business.tooelechamber.com/events/details/stockton-planning-zoning-meeting-04-03-2012-4769
END:VEVENT

END:VCALENDAR
