BEGIN:VCALENDAR
VERSION:2.0
PRODID:-//ChamberMaster//Event Calendar 2.0//EN
METHOD:PUBLISH
X-PUBLISHED-TTL:P3D
REFRESH-INTERVAL:P3D
CALSCALE:GREGORIAN
BEGIN:VEVENT
DTSTART;VALUE=DATE:20130817
DTEND;VALUE=DATE:20130819
TRANSP:TRANSPARENT
X-MICROSOFT-CDO-ALLDAYEVENT:TRUE
SUMMARY:Stockton Sesquicentennial Celebration
DESCRIPTION:
X-ALT-DESC;FMTTYPE=text/html:
LOCATION:Stockton\, Utah
UID:e.125.5717
SEQUENCE:3
DTSTAMP:20260420T133149Z
URL:https://business.tooelechamber.com/events/details/stockton-sesquicentennial-celebration-08-17-2013-5717
END:VEVENT

END:VCALENDAR
