BEGIN:VCALENDAR
VERSION:2.0
PRODID:-//ChamberMaster//Event Calendar 2.0//EN
METHOD:PUBLISH
X-PUBLISHED-TTL:P3D
REFRESH-INTERVAL:P3D
CALSCALE:GREGORIAN
BEGIN:VEVENT
DTSTART:20101013T200000Z
DTEND:20101013T210000Z
X-MICROSOFT-CDO-ALLDAYEVENT:FALSE
SUMMARY:Stranger Danger Day
DESCRIPTION:Stranger Danger With the\n\n	Tooele City Police Department\n\n	Wednesday\, October 13th @ 2pm\n\n	Location: Tooele City Library\n\n	128 West Vine Street\, Tooele
X-ALT-DESC;FMTTYPE=text/html:<p style="text-align: center">\n	<span style="font-size: 26px">Stranger Danger With the<br />\n	Tooele City Police Department<br />\n	Wednesday\, October 13th @ 2pm<br />\n	Location: Tooele City Library<br />\n	128 West Vine Street\, Tooele </span></p>\n
LOCATION:
UID:e.125.3252
SEQUENCE:3
DTSTAMP:20260422T215908Z
URL:https://business.tooelechamber.com/events/details/stranger-danger-day-10-13-2010-3252
END:VEVENT

END:VCALENDAR
