BEGIN:VCALENDAR
VERSION:2.0
PRODID:-//ChamberMaster//Event Calendar 2.0//EN
METHOD:PUBLISH
X-PUBLISHED-TTL:P3D
REFRESH-INTERVAL:P3D
CALSCALE:GREGORIAN
BEGIN:VEVENT
DTSTART:20140627T040000Z
DTEND:20140627T050000Z
X-MICROSOFT-CDO-ALLDAYEVENT:FALSE
SUMMARY:Summer Reading Program
DESCRIPTION:Titled: â??Be a Robotâ?\nPresenter: Anthony Johnson (Break dancer) & Charles DeWitt (Robotics scientist)
X-ALT-DESC;FMTTYPE=text/html:Titled: â??Be a Robotâ?\nPresenter: Anthony Johnson (Break dancer) & Charles DeWitt (Robotics scientist)\n
LOCATION:
UID:e.125.5445
SEQUENCE:3
DTSTAMP:20260419T181208Z
URL:https://business.tooelechamber.com/events/details/summer-reading-program-06-26-2014-5445
END:VEVENT

END:VCALENDAR
