BEGIN:VCALENDAR
VERSION:2.0
PRODID:-//ChamberMaster//Event Calendar 2.0//EN
METHOD:PUBLISH
X-PUBLISHED-TTL:P3D
REFRESH-INTERVAL:P3D
CALSCALE:GREGORIAN
BEGIN:VEVENT
DTSTART:20111116T190000Z
DTEND:20111116T200000Z
X-MICROSOFT-CDO-ALLDAYEVENT:FALSE
SUMMARY:Synchronize Calendars & Bookmarks between Different Computers
DESCRIPTION:Mini-Lesson\n\n	Lunch N Learn Series\n\n	Presented by: Tooele Applied Technology College\n66 West Vine Street\, Tooele\n\nFree to the public\, includes pizza lunch!\n\nLimited seating\, RSVP's accepted for accurate lunch count\n\nSynchronize Calendars & Bookmarks Between Different Computers with Jay Olson\n\nLearn how to synchronize your personal management tools and devices
X-ALT-DESC;FMTTYPE=text/html:<p style="text-align: center">\n	<span style="font-size: 18px">Mini-Lesson</span></p>\n<p style="text-align: center">\n	<span style="font-size: 18px">Lunch N Learn Series</span></p>\n<p style="text-align: center">\n	<span style="font-size: 18px">Presented by: Tooele Applied Technology College</span></p>\n<span style="font-size: 18px">66 West Vine Street\, Tooele<br />\nFree to the public\, includes pizza lunch!<br />\nLimited seating\, RSVP&#39\;s accepted for accurate lunch count<br />\nSynchronize Calendars &amp\; Bookmarks&nbsp\;Between Different Computers with Jay Olson<br />\nLearn how to synchronize your personal&nbsp\;management tools and devices </span><br />\n<span _fck_bookmark="1" style="display: none">&nbsp\;</span>
LOCATION:
UID:e.125.3593
SEQUENCE:3
DTSTAMP:20260422T011204Z
URL:https://business.tooelechamber.com/events/details/synchronize-calendars-bookmarks-between-different-computers-11-16-2011-3593
END:VEVENT

END:VCALENDAR
