BEGIN:VCALENDAR
VERSION:2.0
PRODID:-//ChamberMaster//Event Calendar 2.0//EN
METHOD:PUBLISH
X-PUBLISHED-TTL:P3D
REFRESH-INTERVAL:P3D
CALSCALE:GREGORIAN
BEGIN:VEVENT
DTSTART:20080513T003000Z
DTEND:20080513T023000Z
X-MICROSOFT-CDO-ALLDAYEVENT:FALSE
SUMMARY:Taco & Talent Night
DESCRIPTION:Taco & Talent Night at Veterans Memorial Park
X-ALT-DESC;FMTTYPE=text/html:<div>Taco &amp\; Talent Night at Veterans Memorial Park</div>
LOCATION:Veteran's Memorial ParkVine & Main\, Tooele
UID:e.125.376
SEQUENCE:3
DTSTAMP:20260424T214540Z
URL:https://business.tooelechamber.com/events/details/taco-talent-night-05-12-2008-376
END:VEVENT

END:VCALENDAR
