BEGIN:VCALENDAR
VERSION:2.0
PRODID:-//ChamberMaster//Event Calendar 2.0//EN
METHOD:PUBLISH
X-PUBLISHED-TTL:P3D
REFRESH-INTERVAL:P3D
CALSCALE:GREGORIAN
BEGIN:VEVENT
DTSTART:20110216T190000Z
DTEND:20110216T200000Z
X-MICROSOFT-CDO-ALLDAYEVENT:FALSE
SUMMARY:Tax Talk
DESCRIPTION:Mini-Lesson\n\n	Lunch N Learn Series\n\n	Presented by: Tooele Applied Technology College\n\n	66 West Vine Street\, Tooele\n\n	Free to public\, includes a pizza lunch!\n\n	Limited seating\, RSVP's accepted for accurate lunch count\n\n	Tax Talk with Diane Cox of H&R Block of Tooele\n\n	Learn the basics of budgeting\, taxes\, education benefits\, income taxes for specific vocations (truck drivers\, hair stylists\, etc.) and entrepreneurs.
X-ALT-DESC;FMTTYPE=text/html:<p style="text-align: center">\n	<span style="font-size: 18px">Mini-Lesson<br />\n	Lunch N Learn Series<br />\n	Presented by: Tooele Applied Technology College<br />\n	66 West Vine Street\, Tooele<br />\n	Free to public\, includes a pizza lunch!<br />\n	Limited seating\, RSVP&#39\;s accepted for accurate lunch count<br />\n	Tax Talk with Diane Cox of H&amp\;R Block of Tooele<br />\n	Learn the basics of budgeting\, taxes\, education benefits\, income taxes for specific vocations (truck drivers\, hair stylists\, etc.) and entrepreneurs. </span></p>\n
LOCATION:
UID:e.125.3584
SEQUENCE:3
DTSTAMP:20260422T154315Z
URL:https://business.tooelechamber.com/events/details/tax-talk-02-16-2011-3584
END:VEVENT

END:VCALENDAR
