BEGIN:VCALENDAR
VERSION:2.0
PRODID:-//ChamberMaster//Event Calendar 2.0//EN
METHOD:PUBLISH
X-PUBLISHED-TTL:P3D
REFRESH-INTERVAL:P3D
CALSCALE:GREGORIAN
BEGIN:VEVENT
DTSTART:20101112T023000Z
DTEND:20101114T040000Z
X-MICROSOFT-CDO-ALLDAYEVENT:FALSE
SUMMARY:The Beloved Dearly
DESCRIPTION:Clarke N. Johnsen Jr. High Presents:\n\n					The comedy "The Beloved Dearly"\n\n					Beginning Thursday\, November 11th-13th @ 7:30pm\n\n					Location: Clark N. Johnsen Jr. High\n\n					2152 North 400 West\, Tooele  \n\n					Cost: $5 for adults\, and $3 for student/children\n\n					For more information contact Jorden Cammack at jcammack@tooeleschools.org
X-ALT-DESC;FMTTYPE=text/html:<table border="0" cellpadding="0" cellspacing="0" class="MsoNormalTable" style="mso-cellspacing: 0in\; mso-yfti-tbllook: 1184\; mso-padding-alt: 0in 0in 0in 0in">\n	<tbody>\n		<tr style="mso-yfti-irow: 0\; mso-yfti-firstrow: yes\; mso-yfti-lastrow: yes">\n			<td style="border-bottom: #000000\; border-left: #000000\; padding-bottom: 0in\; background-color: transparent\; padding-left: 0in\; padding-right: 0in\; border-top: #000000\; border-right: #000000\; padding-top: 0in" valign="top">\n				<p class="MsoNormal" style="text-align: center\; margin: 0in 0in 0pt">\n					<span style="font-size: 22px"><b><span style="font-family: 'arial'\, 'sans-serif'">&nbsp\;</span></b></span><span style="font-family: 'arial'\, 'sans-serif'\; font-size: 10pt"><o:p></o:p></span></p>\n			</td>\n			<td style="border-bottom: #000000\; border-left: #000000\; padding-bottom: 0in\; background-color: transparent\; padding-left: 0in\; padding-right: 0in\; border-top: #000000\; border-right: #000000\; padding-top: 0in">\n				<p class="MsoNormal" style="text-align: center\; margin: 0in 0in 0pt">\n					<span style="font-size: 22px"><span style="font-family: 'arial'\, 'sans-serif'"><strong><u>Clarke N. Johnsen Jr. High Presents:</u></strong><br />\n					The comedy &quot\;The Beloved Dearly&quot\;<br />\n					Beginning Thursday\, November 11th-13th @ 7:30pm<br />\n					Location: Clark N. Johnsen Jr. High<br />\n					2152 North&nbsp\;400 West\, Tooele &nbsp\;<br />\n					Cost:&nbsp\;$5 for adults\, and $3 for student/children<br />\n					For more information contact Jorden&nbsp\;Cammack at&nbsp\;<a href="mailto:jcammack@tooeleschools.org">jcammack@tooeleschools.org</a></span></span></p>\n			</td>\n		</tr>\n	</tbody>\n</table>\n
LOCATION:
UID:e.125.3285
SEQUENCE:3
DTSTAMP:20260422T203044Z
URL:https://business.tooelechamber.com/events/details/the-beloved-dearly-11-11-2010-3285
END:VEVENT

END:VCALENDAR
