BEGIN:VCALENDAR
VERSION:2.0
PRODID:-//ChamberMaster//Event Calendar 2.0//EN
METHOD:PUBLISH
X-PUBLISHED-TTL:P3D
REFRESH-INTERVAL:P3D
CALSCALE:GREGORIAN
BEGIN:VEVENT
DTSTART:20110513T140000Z
DTEND:20110513T180000Z
X-MICROSOFT-CDO-ALLDAYEVENT:FALSE
SUMMARY:The Mayor's Annual Spring Benefit Golf Tournament
DESCRIPTION:Support The Mayor's Annual Spring Benefit Golf Tournament\n\n	Friday\, May 13\, 2011 \n\n	4   person scramble at Oquirrh Hills Golf Course\n\n	Breakfast @ 8:00am\, Shot Gun Start @ 9:00am\n\n	only $50 per person and only $50 hole sponsors \n\n	All the proceeds go toward the Chamber of Commerce Capital Building Fund Campaign\n\n	 \n\n	 \n\n	  If interested\, contact Tooele City @ 435-843-2100 \n\n	If interested\, contact Oquirrh Hills Golf Course @ 435-843-4220
X-ALT-DESC;FMTTYPE=text/html:<p style="text-align: center\; margin-top: 0pt\; unicode-bidi: embed\; direction: ltr\; margin-bottom: 0pt\; vertical-align: baseline\; language: en-us">\n	<span style="font-family: 'segoe print'\; color: #2c71ff\; font-size: 28pt\; language: en-us\; mso-ascii-font-family: 'segoe print'\; mso-fareast-font-family: +mn-ea\; mso-bidi-font-family: arial\; mso-color-index: 9\; mso-font-kerning: 12.0pt">Support The Mayor&rsquo\;s Annual Spring Benefit Golf Tournament</span></p>\n<p style="text-align: center\; margin-top: 0pt\; unicode-bidi: embed\; direction: ltr\; margin-bottom: 0pt\; vertical-align: baseline\; language: en-us">\n	<span style="font-family: 'segoe print'\; color: #e40059\; language: en-us\; mso-ascii-font-family: 'segoe print'\; mso-fareast-font-family: +mn-ea\; mso-bidi-font-family: arial\; mso-color-index: 5\; mso-font-kerning: 12.0pt">Friday\, May 13\, 2011 </span></p>\n<p style="text-align: center\; margin-top: 0pt\; unicode-bidi: embed\; direction: ltr\; margin-bottom: 0pt\; vertical-align: baseline\; language: en-us">\n	<span style="font-family: 'segoe print'\; color: #002776\; language: en-us\; mso-ascii-font-family: 'segoe print'\; mso-fareast-font-family: +mn-ea\; mso-bidi-font-family: arial\; mso-color-index: 9\; mso-font-kerning: 12.0pt">4 &ndash\; person scramble at </span><span style="font-family: 'segoe print'\; color: #002776\; language: en-us\; mso-ascii-font-family: 'segoe print'\; mso-fareast-font-family: +mn-ea\; mso-bidi-font-family: arial\; mso-color-index: 9\; mso-font-kerning: 12.0pt">Oquirrh</span><span style="font-family: 'segoe print'\; color: #002776\; language: en-us\; mso-ascii-font-family: 'segoe print'\; mso-fareast-font-family: +mn-ea\; mso-bidi-font-family: arial\; mso-color-index: 9\; mso-font-kerning: 12.0pt"> Hills Golf Course</span></p>\n<p style="text-align: center\; margin-top: 0pt\; unicode-bidi: embed\; direction: ltr\; margin-bottom: 0pt\; vertical-align: baseline\; language: en-us">\n	<span style="font-family: 'segoe print'\; color: #002776\; language: en-us\; mso-ascii-font-family: 'segoe print'\; mso-fareast-font-family: +mn-ea\; mso-bidi-font-family: arial\; mso-color-index: 9\; mso-font-kerning: 12.0pt">Breakfast @ 8:00am\, Shot Gun Start @ 9:00am<br />\n	only $50 per person and only $50 hole sponsors </span></p>\n<p style="text-align: center\; margin-top: 0pt\; unicode-bidi: embed\; direction: ltr\; margin-bottom: 0pt\; vertical-align: baseline\; language: en-us">\n	<span style="font-family: 'segoe print'\; color: #e40059\; font-size: 24pt\; language: en-us\; mso-ascii-font-family: 'segoe print'\; mso-fareast-font-family: +mn-ea\; mso-bidi-font-family: arial\; mso-color-index: 5\; mso-font-kerning: 12.0pt">All the proceeds go toward the Chamber of Commerce Capital Building Fund Campaign</span></p>\n<p style="text-align: center\; margin-top: 0pt\; unicode-bidi: embed\; direction: ltr\; margin-bottom: 0pt\; vertical-align: baseline\; language: en-us">\n	<span style="font-family: 'segoe print'\; color: black\; language: en-us\; mso-ascii-font-family: 'segoe print'\; mso-fareast-font-family: +mn-ea\; mso-bidi-font-family: arial\; mso-color-index: 1\; mso-font-kerning: 12.0pt"><span _fck_bookmark="1" style="display: none">&nbsp\;</span></span></p>\n<p style="text-align: center">\n	&nbsp\;</p>\n<p style="text-align: center\; margin-top: 0pt\; unicode-bidi: embed\; direction: ltr\; margin-bottom: 0pt\; vertical-align: baseline\; language: en-us">\n	<span style="font-family: 'segoe print'\; color: black\; language: en-us\; mso-ascii-font-family: 'segoe print'\; mso-fareast-font-family: +mn-ea\; mso-bidi-font-family: arial\; mso-color-index: 1\; mso-font-kerning: 12.0pt"><span _fck_bookmark="1" style="display: none"><span style="font-family: 'segoe print'\; color: #002060\; font-size: 20pt\; language: en-us\; mso-ascii-font-family: 'segoe print'\; mso-fareast-font-family: +mn-ea\; mso-bidi-font-family: arial\; mso-font-kerning: 12.0pt"><span>&#65279\;</span>&#65279\;If interested\, contact Tooele City @ 435-843-2100<span _fck_bookmark="1" style="display: none">&nbsp\;</span></span></span></span></p>\n<p style="text-align: center\; margin-top: 0pt\; unicode-bidi: embed\; direction: ltr\; margin-bottom: 0pt\; vertical-align: baseline\; language: en-us">\n	<span style="font-family: 'segoe print'\; color: #002060\; font-size: 20pt\; language: en-us\; mso-ascii-font-family: 'segoe print'\; mso-fareast-font-family: +mn-ea\; mso-bidi-font-family: arial\; mso-font-kerning: 12.0pt">If interested\, contact&nbsp\;Oquirrh Hills Golf Course&nbsp\;@ 435-843-4220<span _fck_bookmark="1" style="display: none">&nbsp\;</span></span></p>\n<p style="text-align: center\; margin-top: 0pt\; unicode-bidi: embed\; direction: ltr\; margin-bottom: 0pt\; vertical-align: baseline\; language: en-us">\n	<span style="font-family: 'segoe print'\; color: black\; language: en-us\; mso-ascii-font-family: 'segoe print'\; mso-fareast-font-family: +mn-ea\; mso-bidi-font-family: arial\; mso-color-index: 1\; mso-font-kerning: 12.0pt"><span _fck_bookmark="1" style="display: none">&nbsp\;</span></span></p>\n
LOCATION:
UID:e.125.3691
SEQUENCE:3
DTSTAMP:20260422T105755Z
URL:https://business.tooelechamber.com/events/details/the-mayor-s-annual-spring-benefit-golf-tournament-05-13-2011-3691
END:VEVENT

END:VCALENDAR
