BEGIN:VCALENDAR
VERSION:2.0
PRODID:-//ChamberMaster//Event Calendar 2.0//EN
METHOD:PUBLISH
X-PUBLISHED-TTL:P3D
REFRESH-INTERVAL:P3D
CALSCALE:GREGORIAN
BEGIN:VEVENT
DTSTART;VALUE=DATE:20120607
DTEND;VALUE=DATE:20120610
TRANSP:TRANSPARENT
X-MICROSOFT-CDO-ALLDAYEVENT:TRUE
SUMMARY:The Wild Horses & Heritage Festival
DESCRIPTION:The Wild Horse & Heritage Days June 7\, 8\, and 9th 2012\n\n	@ Deseret Peak Complex
X-ALT-DESC;FMTTYPE=text/html:<p style="text-align: center">\n	<span style="font-size: 26px"><strong>The Wild Horse &amp\; Heritage Days June 7\, 8\, and 9th 2012<br />\n	@ Deseret Peak Complex</strong></span></p>\n
LOCATION:
UID:e.125.3954
SEQUENCE:3
DTSTAMP:20260421T141339Z
URL:https://business.tooelechamber.com/events/details/the-wild-horses-heritage-festival-06-07-2012-3954
END:VEVENT

END:VCALENDAR
