BEGIN:VCALENDAR
VERSION:2.0
PRODID:-//ChamberMaster//Event Calendar 2.0//EN
METHOD:PUBLISH
X-PUBLISHED-TTL:P3D
REFRESH-INTERVAL:P3D
CALSCALE:GREGORIAN
BEGIN:VEVENT
DTSTART:20100423T010000Z
DTEND:20100425T030000Z
X-MICROSOFT-CDO-ALLDAYEVENT:FALSE
SUMMARY:Theatrical Production ''This Castle Needs a Good Scouring'
DESCRIPTION:Students from Clarke N. Johnsen Junior High\, are proud to present their first theatrical production on April 22-24\, 2010\, "This Castle Needs a Good Scouring" by: Dr. Omar Hansen.The play takes on a whole new\, hilarious\, look at the story of Cinderella. Cinderella loves to clean\, the Fairy Godmother hates her job\, the prince is\, well\, not so charming\, and the king is obsessed with money. Tickets for the general public will be $4 and $2 for Tooele County students with an ID card.The performance will be held in Clarke N. Johnsen cafetorium begenning at 7:30pm\, the doors will open at 7pm.
X-ALT-DESC;FMTTYPE=text/html:<div style="text-align: center"><span style="font-size: medium">Students from Clarke N. Johnsen Junior High\, are proud to present their first theatrical production on April 22-24\, 2010\, </span></div><div style="text-align: center"><span style="font-size: medium">&quot\;This Castle Needs a Good Scouring&quot\; by: Dr. Omar Hansen.</span></div><div style="text-align: center"><span style="font-size: medium">The play takes on a whole new\, hilarious\, look at the story of Cinderella. Cinderella loves to clean\, the Fairy Godmother hates her job\, the prince is\, well\, not so charming\,</span></div><div style="text-align: center"><span style="font-size: medium"> and the king is obsessed with money. </span></div><div style="text-align: center"><span style="font-size: medium">Tickets for the general public will be $4 and</span></div><div style="text-align: center"><span style="font-size: medium"> $2 for Tooele County students with an ID card.</span></div><div style="text-align: center"><span style="font-size: medium">The performance will be held in Clarke N. Johnsen cafetorium begenning at 7:30pm\, the doors will open at 7pm. </span></div>
LOCATION:
UID:e.125.3145
SEQUENCE:3
DTSTAMP:20260423T080517Z
URL:https://business.tooelechamber.com/events/details/theatrical-production-this-castle-needs-a-good-scouring-04-22-2010-3145
END:VEVENT

END:VCALENDAR
