BEGIN:VCALENDAR
VERSION:2.0
PRODID:-//ChamberMaster//Event Calendar 2.0//EN
METHOD:PUBLISH
X-PUBLISHED-TTL:P3D
REFRESH-INTERVAL:P3D
CALSCALE:GREGORIAN
BEGIN:VEVENT
DTSTART:20090704T130000Z
DTEND:20090704T180000Z
X-MICROSOFT-CDO-ALLDAYEVENT:FALSE
SUMMARY:Tooele 5k Freedom Run
DESCRIPTION:TOOELE 5K FREEDOM RUN "OUR CITY\, OUR COUNTRY\, OUR PRIDE"Date: Saturday\, July 4th\, 2009Course: The race begins near the LDS church at 777 East Skyline Drive\, Tooele\, UT. The course will run west on Skyline to 7th Street\, then North to 2nd South\, then West to Main Street\, then North to 4th North\, then West to 2nd West\, then South to the corner of Vine Street and 2nd West (Southeast of the swimming pool). Time: 8:30 A.M. (Registration begins at 7:00 A.M. at the LDS Church on Skyline. Fee: $15 (includes T-shirt) or $10 (no T-shirt) before June 24th. Fees increase to $20 (with T-shirt) and $15 (no T-shirt) after June 24th and the day of race.Make check to Kiwanis Club. Pre-registration locations: Macey's Food & Drug\, 972 North Main\, Century 21 McAffee Realtors\, 768 North Main\, Prudential Real Estate\, 205 North Main Street. Run Awards: Trophies will be awarded to the top three women and the top three men. Medals will be awarded to first place man and woman in each age division and ribbons for second andthird place finishers in each age division. Volunteers: Anyone interested in helping with the race may contact Karen Perry 435-830-7846. Proceeds: Proceeds from the race go to Kiwanis Projects (Young Children & Youth). -- SPONSORS  Tooele Kiwanis Club\, Energy Solutions\, Cargill Salt\, Chamber of Commerce\, Mullin's Lock & Key\, Zion's Bank\, Christensen & Griffith\, Wasatch Blinds & Flooring\, Jackrabbit Press\, Birch Pharmacy\, Prudential Utah Real Estate and Domino's Pizza.Click Here for Registration Forms
X-ALT-DESC;FMTTYPE=text/html:<div style="text-align: center"><span style="font-size: larger"><strong>TOOELE 5K FREEDOM RUN &ldquo\;OUR CITY\, OUR COUNTRY\, OUR PRIDE&rdquo\;</strong></span></div><div style="text-align: center">Date: Saturday\, July 4th\, 2009</div><div style="text-align: center"><strong>Course: </strong>The race begins near the LDS church at 777 East Skyline Drive\, Tooele\, UT. The course will run west on Skyline to 7th Street\, then North to 2nd South\, then West to Main Street\, then North to 4th North\, then West to 2nd West\, then South to the corner of Vine Street and 2nd West (Southeast of the swimming pool).</div><div style="text-align: center">&nbsp\;</div><div style="text-align: center"><strong>Time: </strong>8:30 A.M. (Registration begins at 7:00 A.M. at the LDS Church on Skyline. Fee: $15 (includes T-shirt) or $10 (no T-shirt) before June 24th. Fees increase to $20 (with T-shirt) and $15 (no T-shirt) after June 24th and the day of race.Make check to Kiwanis Club.</div><div style="text-align: center">&nbsp\;</div><div style="text-align: center"><strong>Pre-registration locations: </strong>Macey&rsquo\;s Food &amp\; Drug\, 972 North Main\, Century 21 McAffee Realtors\, 768 North Main\, Prudential Real Estate\, 205 North Main Street. Run Awards: Trophies will be awarded to the top three women and the top three men. Medals will be awarded to first place man and woman in each age division and ribbons for second and</div><div style="text-align: center">third place finishers in each age division.</div><div style="text-align: center">&nbsp\;</div><div style="text-align: center"><strong>Volunteers: Anyone interested in helping with the race may contact Karen Perry 435-830-7846. </strong>Proceeds: Proceeds from the race go to Kiwanis Projects (Young Children &amp\; Youth). --</div><div style="text-align: center">&nbsp\;</div><div style="text-align: center"><strong>SPONSORS&mdash\;</strong> Tooele Kiwanis Club\, Energy Solutions\, Cargill Salt\, Chamber of Commerce\, Mullin&rsquo\;s Lock &amp\; Key\, Zion&rsquo\;s Bank\, Christensen &amp\; Griffith\, Wasatch Blinds &amp\; Flooring\, Jackrabbit Press\, Birch Pharmacy\, Prudential Utah Real Estate and Domino&rsquo\;s Pizza.</div><div style="text-align: center"><a href="https://secure.chambermaster.com/FCKeditor/UserFiles/chambers/125/File/FreedomRun09entryform%5B1%5D.pdf">Click Here for Registration Forms</a></div>
LOCATION:
UID:e.125.2537
SEQUENCE:3
DTSTAMP:20260423T213620Z
URL:https://business.tooelechamber.com/events/details/tooele-5k-freedom-run-07-04-2009-2537
END:VEVENT

END:VCALENDAR
