BEGIN:VCALENDAR
VERSION:2.0
PRODID:-//ChamberMaster//Event Calendar 2.0//EN
METHOD:PUBLISH
X-PUBLISHED-TTL:P3D
REFRESH-INTERVAL:P3D
CALSCALE:GREGORIAN
BEGIN:VEVENT
DTSTART:20130817T180000Z
DTEND:20130818T030000Z
X-MICROSOFT-CDO-ALLDAYEVENT:FALSE
SUMMARY:Tooele Businesses Block Party
DESCRIPTION:Tooele Businesses Block Party\n\n	\n\n	 Saturday\, August 17th\n\n	 All Day Event\n\n	@ 2276 North 400 East\, Tooele\n\n	Free Events\n\n	Concert Headliner: Firehouse\n\n	Local food vendors and business will have booths set up\n\n	And more!\n\n	For questions or to reserve booth space call:\n\n	Danny Marz: (801) 388-1825\n\n	Click here to edit...
X-ALT-DESC;FMTTYPE=text/html:<div style="color: gray">\n	<br />\n	<span style="font-weight: bold\; language: en-US\; text-shadow: auto"><span style="font-size: 37pt"><span style="color: #9e3611"><span style="font-family: rockwell extra bold">Tooele Businesses Block Party</span></span></span></span><br />\n	<br />\n	&nbsp\;<span style="font-weight: bold\; language: en-US"><span style="font-size: 27pt"><span style="color: black"><span style="font-family: lucida sans unicode">Saturday\, August </span></span></span></span><span style="font-weight: bold\; language: en-US"><span style="font-size: 27pt"><span style="color: black"><span style="font-family: lucida sans unicode">17</span></span></span></span><span style="vertical-align: super\; font-weight: bold\; language: en-US"><span style="font-size: 27pt"><span style="color: black"><span style="font-family: lucida sans unicode">th</span></span></span></span><br />\n	&nbsp\;<span style="font-weight: bold\; language: en-US"><span style="font-size: 27pt"><span style="color: black"><span style="font-family: lucida sans unicode">All </span></span></span></span><span style="font-weight: bold\; language: en-US"><span style="font-size: 27pt"><span style="color: black"><span style="font-family: lucida sans unicode">Day Event</span></span></span></span><br />\n	<span style="font-weight: bold\; language: en-US"><span style="font-size: 27pt"><span style="color: black"><span style="font-family: lucida sans unicode">@ 2276 North 400 East\, Tooele</span></span></span></span><br />\n	<span style="font-weight: bold\; language: en-US"><span style="font-size: 27pt"><span style="color: black"><span style="font-family: lucida sans unicode">Free </span></span></span></span><span style="font-weight: bold\; language: en-US"><span style="font-size: 27pt"><span style="color: black"><span style="font-family: lucida sans unicode">Events</span></span></span></span><br />\n	<span style="font-weight: bold\; language: en-US"><span style="font-size: 27pt"><span style="color: black"><span style="font-family: lucida sans unicode">Concert Headliner: Firehouse</span></span></span></span><br />\n	<span style="font-weight: bold\; language: en-US"><span style="font-size: 27pt"><span style="color: black"><span style="font-family: lucida sans unicode">Local food vendors and business will </span></span></span></span><span style="font-weight: bold\; language: en-US"><span style="font-size: 27pt"><span style="color: black"><span style="font-family: lucida sans unicode">have booths </span></span></span></span><span style="font-weight: bold\; language: en-US"><span style="font-size: 27pt"><span style="color: black"><span style="font-family: lucida sans unicode">set up</span></span></span></span><br />\n	<span style="font-weight: bold\; language: en-US"><span style="font-size: 27pt"><span style="color: black"><span style="font-family: lucida sans unicode">And more!</span></span></span></span><br />\n	<span style="font-weight: bold\; language: en-US"><span style="font-size: 27pt"><span style="color: black"><span style="font-family: lucida sans unicode">For questions or to reserve booth space call:</span></span></span></span><br />\n	<span style="font-weight: bold\; language: en-US"><span style="font-size: 27pt"><span style="color: black"><span style="font-family: lucida sans unicode">Danny </span></span></span></span><span style="font-weight: bold\; language: en-US"><span style="font-size: 27pt"><span style="color: black"><span style="font-family: lucida sans unicode">Marz</span></span></span></span><span style="font-weight: bold\; language: en-US"><span style="font-size: 27pt"><span style="color: black"><span style="font-family: lucida sans unicode">: (801) 388-1825</span></span></span></span><br />\n	Click here to edit...</div>\n
LOCATION:
UID:e.125.5045
SEQUENCE:3
DTSTAMP:20260420T133329Z
URL:https://business.tooelechamber.com/events/details/tooele-businesses-block-party-08-17-2013-5045
END:VEVENT

END:VCALENDAR
