BEGIN:VCALENDAR
VERSION:2.0
PRODID:-//ChamberMaster//Event Calendar 2.0//EN
METHOD:PUBLISH
X-PUBLISHED-TTL:P3D
REFRESH-INTERVAL:P3D
CALSCALE:GREGORIAN
BEGIN:VEVENT
DTSTART:20100506T010000Z
DTEND:20100506T010000Z
X-MICROSOFT-CDO-ALLDAYEVENT:FALSE
SUMMARY:Tooele City Council Meeting
DESCRIPTION:Tooele City Council Meeting90 North Main\, Tooele(Council Chambers)Time: 7 pm435-843-2100
X-ALT-DESC;FMTTYPE=text/html:<div><div align="center"><font size="5">Tooele City Council Meeting</font></div><div align="center"><font size="5">90 North Main\, Tooele</font></div><div align="center"><font size="5">(Council Chambers)</font></div><div align="center"><font size="5">Time: 7 pm</font></div><div align="center"><font size="5">435-843-2100</font></div></div>
LOCATION:
UID:e.125.1349
SEQUENCE:3
DTSTAMP:20260423T062636Z
URL:https://business.tooelechamber.com/events/details/tooele-city-council-meeting-05-05-2010-1349
END:VEVENT

END:VCALENDAR
